BEGIN:VCALENDAR
VERSION:2.0
PRODID:-// Parkes Property iCal
METHOD:PUBLISH
BEGIN:VEVENT
DTSTART:20200305T120000

DTEND:20200305T123000
DTSTAMP:20200301T10472700

DESCRIPTION:Ofi for 201/1042 Doncaster Road, Doncaster East
LOCATION:201/1042 Doncaster Road, Doncaster East, VIC, 3109
SUMMARY:Ofi for 201/1042 Doncaster Road, Doncaster East hosted by Parkes Property
CATEGORIES:APPOINTMENT
CLASS:PUBLIC
BEGIN:VALARM
TRIGGER:-PT1H
ACTION:DISPLAY
DESCRIPTION:Reminder
END:VALARM
END:VEVENT
END:VCALENDAR