BEGIN:VCALENDAR
VERSION:2.0
PRODID:-// Parkes Property iCal
METHOD:PUBLISH
BEGIN:VEVENT
DTSTART:20200305T163000

DTEND:20200305T170000
DTSTAMP:20200301T10481200

DESCRIPTION:Ofi for 98 Gedye Street, Doncaster East
LOCATION:98 Gedye Street, Doncaster East, VIC, 3109
SUMMARY:Ofi for 98 Gedye Street, Doncaster East hosted by Parkes Property
CATEGORIES:APPOINTMENT
CLASS:PUBLIC
BEGIN:VALARM
TRIGGER:-PT1H
ACTION:DISPLAY
DESCRIPTION:Reminder
END:VALARM
END:VEVENT
END:VCALENDAR