BEGIN:VCALENDAR
VERSION:2.0
PRODID:-// Parkes Property iCal
METHOD:PUBLISH
BEGIN:VEVENT
DTSTART:20200307T120000

DTEND:20200307T123000
DTSTAMP:20200301T10485500

DESCRIPTION:Ofi for 22/885-889 Doncaster Road, Doncaster East
LOCATION:22/885-889 Doncaster Road, Doncaster East, VIC, 3109
SUMMARY:Ofi for 22/885-889 Doncaster Road, Doncaster East hosted by Parkes Property
CATEGORIES:APPOINTMENT
CLASS:PUBLIC
BEGIN:VALARM
TRIGGER:-PT1H
ACTION:DISPLAY
DESCRIPTION:Reminder
END:VALARM
END:VEVENT
END:VCALENDAR