BEGIN:VCALENDAR
VERSION:2.0
PRODID:-// Parkes Property iCal
METHOD:PUBLISH
BEGIN:VEVENT
DTSTART:20200305T180000

DTEND:20200305T183000
DTSTAMP:20200301T10493000

DESCRIPTION:Ofi for 7 Houndswood Close, Doncaster East
LOCATION:7 Houndswood Close, Doncaster East, VIC, 3109
SUMMARY:Ofi for 7 Houndswood Close, Doncaster East hosted by Parkes Property
CATEGORIES:APPOINTMENT
CLASS:PUBLIC
BEGIN:VALARM
TRIGGER:-PT1H
ACTION:DISPLAY
DESCRIPTION:Reminder
END:VALARM
END:VEVENT
END:VCALENDAR