BEGIN:VCALENDAR
VERSION:2.0
PRODID:-// Parkes Property iCal
METHOD:PUBLISH
BEGIN:VEVENT
DTSTART:20200305T163000

DTEND:20200305T170000
DTSTAMP:20200301T10423100

DESCRIPTION:Ofi for 101/19-21 Frederick Street, Doncaster
LOCATION:101/19-21 Frederick Street, Doncaster, VIC, 3108
SUMMARY:Ofi for 101/19-21 Frederick Street, Doncaster hosted by Parkes Property
CATEGORIES:APPOINTMENT
CLASS:PUBLIC
BEGIN:VALARM
TRIGGER:-PT1H
ACTION:DISPLAY
DESCRIPTION:Reminder
END:VALARM
END:VEVENT
END:VCALENDAR