BEGIN:VCALENDAR
VERSION:2.0
PRODID:-// Parkes Property iCal
METHOD:PUBLISH
BEGIN:VEVENT
DTSTART:20200321T130000

DTEND:20200321T9000
DTSTAMP:20200301T10452200

DESCRIPTION:Auction for 4 The Priory , Templestowe
LOCATION:4 The Priory , Templestowe, VIC, 3106
SUMMARY:Auction for 4 The Priory , Templestowe hosted by Parkes Property
CATEGORIES:APPOINTMENT
CLASS:PUBLIC
BEGIN:VALARM
TRIGGER:-PT1H
ACTION:DISPLAY
DESCRIPTION:Reminder
END:VALARM
END:VEVENT
END:VCALENDAR