BEGIN:VCALENDAR
VERSION:2.0
PRODID:-// Parkes Property iCal
METHOD:PUBLISH
BEGIN:VEVENT
DTSTART:20200321T110000

DTEND:20200321T9000
DTSTAMP:20200301T10464300

DESCRIPTION:Auction for 1 Karen Court, Doncaster East
LOCATION:1 Karen Court, Doncaster East, VIC, 3109
SUMMARY:Auction for 1 Karen Court, Doncaster East hosted by Parkes Property
CATEGORIES:APPOINTMENT
CLASS:PUBLIC
BEGIN:VALARM
TRIGGER:-PT1H
ACTION:DISPLAY
DESCRIPTION:Reminder
END:VALARM
END:VEVENT
END:VCALENDAR