BEGIN:VCALENDAR
VERSION:2.0
PRODID:-// Parkes Property iCal
METHOD:PUBLISH
BEGIN:VEVENT
DTSTART:20200229T110000

DTEND:20200229T9000
DTSTAMP:20200301T10491900

DESCRIPTION:Auction for 7 Houndswood Close, Doncaster East
LOCATION:7 Houndswood Close, Doncaster East, VIC, 3109
SUMMARY:Auction for 7 Houndswood Close, Doncaster East hosted by Parkes Property
CATEGORIES:APPOINTMENT
CLASS:PUBLIC
BEGIN:VALARM
TRIGGER:-PT1H
ACTION:DISPLAY
DESCRIPTION:Reminder
END:VALARM
END:VEVENT
END:VCALENDAR