BEGIN:VCALENDAR
VERSION:2.0
PRODID:-// Parkes Property iCal
METHOD:PUBLISH
BEGIN:VEVENT
DTSTART:20200307T110000

DTEND:20200307T9000
DTSTAMP:20200301T10433900

DESCRIPTION:Auction for 2/367 Balwyn Road, Balwyn North
LOCATION:2/367 Balwyn Road, Balwyn North, VIC, 3104
SUMMARY:Auction for 2/367 Balwyn Road, Balwyn North hosted by Parkes Property
CATEGORIES:APPOINTMENT
CLASS:PUBLIC
BEGIN:VALARM
TRIGGER:-PT1H
ACTION:DISPLAY
DESCRIPTION:Reminder
END:VALARM
END:VEVENT
END:VCALENDAR