BEGIN:VCALENDAR
VERSION:2.0
PRODID:-// Parkes Property iCal
METHOD:PUBLISH
BEGIN:VEVENT
DTSTART:20190309T120000

DTEND:20190309T123000
DTSTAMP:20190227T23570900

DESCRIPTION:Ofi for 6/1 Morello Circle, Doncaster East
LOCATION:6/1 Morello Circle, Doncaster East, VIC, 3109
SUMMARY:Ofi for 6/1 Morello Circle, Doncaster East hosted by Parkes Property
CATEGORIES:APPOINTMENT
CLASS:PUBLIC
BEGIN:VALARM
TRIGGER:-PT1H
ACTION:DISPLAY
DESCRIPTION:Reminder
END:VALARM
END:VEVENT
END:VCALENDAR