BEGIN:VCALENDAR
VERSION:2.0
PRODID:-// Parkes Property iCal
METHOD:PUBLISH
BEGIN:VEVENT
DTSTART:20190309T140000

DTEND:20190309T143000
DTSTAMP:20190227T23580700

DESCRIPTION:Ofi for 5/36 Glen Valley Road, Forest Hill
LOCATION:5/36 Glen Valley Road, Forest Hill, VIC, 3131
SUMMARY:Ofi for 5/36 Glen Valley Road, Forest Hill hosted by Parkes Property
CATEGORIES:APPOINTMENT
CLASS:PUBLIC
BEGIN:VALARM
TRIGGER:-PT1H
ACTION:DISPLAY
DESCRIPTION:Reminder
END:VALARM
END:VEVENT
END:VCALENDAR