BEGIN:VCALENDAR
VERSION:2.0
PRODID:-// Parkes Property iCal
METHOD:PUBLISH
BEGIN:VEVENT
DTSTART:20190228T163000

DTEND:20190228T170000
DTSTAMP:20190227T23585400

DESCRIPTION:Ofi for 42-42A Walker Street, Doncaster
LOCATION:42-42A Walker Street, Doncaster, VIC, 3108
SUMMARY:Ofi for 42-42A Walker Street, Doncaster hosted by Parkes Property
CATEGORIES:APPOINTMENT
CLASS:PUBLIC
BEGIN:VALARM
TRIGGER:-PT1H
ACTION:DISPLAY
DESCRIPTION:Reminder
END:VALARM
END:VEVENT
END:VCALENDAR