BEGIN:VCALENDAR
VERSION:2.0
PRODID:-// Parkes Property iCal
METHOD:PUBLISH
BEGIN:VEVENT
DTSTART:20190302T130000

DTEND:20190302T133000
DTSTAMP:20190227T23592200

DESCRIPTION:Ofi for 6 Glenvill Court, Templestowe
LOCATION:6 Glenvill Court, Templestowe, VIC, 3106
SUMMARY:Ofi for 6 Glenvill Court, Templestowe hosted by Parkes Property
CATEGORIES:APPOINTMENT
CLASS:PUBLIC
BEGIN:VALARM
TRIGGER:-PT1H
ACTION:DISPLAY
DESCRIPTION:Reminder
END:VALARM
END:VEVENT
END:VCALENDAR