BEGIN:VCALENDAR
VERSION:2.0
PRODID:-// Parkes Property iCal
METHOD:PUBLISH
BEGIN:VEVENT
DTSTART:20190302T113000

DTEND:20190302T120000
DTSTAMP:20190228T00000700

DESCRIPTION:Ofi for 7 Silvana Ct , Doncaster East
LOCATION:7 Silvana Ct , Doncaster East, VIC, 3109
SUMMARY:Ofi for 7 Silvana Ct , Doncaster East hosted by Parkes Property
CATEGORIES:APPOINTMENT
CLASS:PUBLIC
BEGIN:VALARM
TRIGGER:-PT1H
ACTION:DISPLAY
DESCRIPTION:Reminder
END:VALARM
END:VEVENT
END:VCALENDAR