BEGIN:VCALENDAR
VERSION:2.0
PRODID:-// Parkes Property iCal
METHOD:PUBLISH
BEGIN:VEVENT
DTSTART:20190302T104500

DTEND:20190302T110000
DTSTAMP:20190228T00090600

DESCRIPTION:Ofi for 26A Bellara Street, Doncaster
LOCATION:26A Bellara Street, Doncaster, VIC, 3108
SUMMARY:Ofi for 26A Bellara Street, Doncaster hosted by Parkes Property
CATEGORIES:APPOINTMENT
CLASS:PUBLIC
BEGIN:VALARM
TRIGGER:-PT1H
ACTION:DISPLAY
DESCRIPTION:Reminder
END:VALARM
END:VEVENT
END:VCALENDAR