BEGIN:VCALENDAR
VERSION:2.0
PRODID:-// Parkes Property iCal
METHOD:PUBLISH
BEGIN:VEVENT
DTSTART:20190302T133000

DTEND:20190302T134500
DTSTAMP:20190228T00092900

DESCRIPTION:Ofi for 83 Wonga Road, Ringwood North
LOCATION:83 Wonga Road, Ringwood North, VIC, 3134
SUMMARY:Ofi for 83 Wonga Road, Ringwood North hosted by Parkes Property
CATEGORIES:APPOINTMENT
CLASS:PUBLIC
BEGIN:VALARM
TRIGGER:-PT1H
ACTION:DISPLAY
DESCRIPTION:Reminder
END:VALARM
END:VEVENT
END:VCALENDAR