BEGIN:VCALENDAR
VERSION:2.0
PRODID:-// Parkes Property iCal
METHOD:PUBLISH
BEGIN:VEVENT
DTSTART:20190302T013000

DTEND:20190302T140000
DTSTAMP:20190228T00010400

DESCRIPTION:Ofi for 115/8 Hepburn Road, Doncaster
LOCATION:115/8 Hepburn Road, Doncaster, VIC, 3108
SUMMARY:Ofi for 115/8 Hepburn Road, Doncaster hosted by Parkes Property
CATEGORIES:APPOINTMENT
CLASS:PUBLIC
BEGIN:VALARM
TRIGGER:-PT1H
ACTION:DISPLAY
DESCRIPTION:Reminder
END:VALARM
END:VEVENT
END:VCALENDAR