BEGIN:VCALENDAR
VERSION:2.0
PRODID:-// Parkes Property iCal
METHOD:PUBLISH
BEGIN:VEVENT
DTSTART:20190316T100000

DTEND:20190316T9000
DTSTAMP:20190227T23561900

DESCRIPTION:Auction for 15 Balfour Street, Doncaster
LOCATION:15 Balfour Street, Doncaster, VIC, 3108
SUMMARY:Auction for 15 Balfour Street, Doncaster hosted by Parkes Property
CATEGORIES:APPOINTMENT
CLASS:PUBLIC
BEGIN:VALARM
TRIGGER:-PT1H
ACTION:DISPLAY
DESCRIPTION:Reminder
END:VALARM
END:VEVENT
END:VCALENDAR